BEGIN:VCALENDAR
VERSION:2.0
PRODID:-//Lou's Bar & Grill - ECPv6.15.18//NONSGML v1.0//EN
CALSCALE:GREGORIAN
METHOD:PUBLISH
X-WR-CALNAME:Lou's Bar & Grill
X-ORIGINAL-URL:https://www.lousbarandgrill.com
X-WR-CALDESC:Events for Lou's Bar & Grill
REFRESH-INTERVAL;VALUE=DURATION:PT1H
X-Robots-Tag:noindex
X-PUBLISHED-TTL:PT1H
BEGIN:VTIMEZONE
TZID:UTC
BEGIN:STANDARD
TZOFFSETFROM:+0000
TZOFFSETTO:+0000
TZNAME:UTC
DTSTART:20220101T000000
END:STANDARD
END:VTIMEZONE
BEGIN:VEVENT
DTSTART;TZID=UTC:20231202T163000
DTEND;TZID=UTC:20231202T193000
DTSTAMP:20260421T102411
CREATED:20231127T190015Z
LAST-MODIFIED:20231127T190015Z
UID:358-1701534600-1701545400@www.lousbarandgrill.com
SUMMARY:Roger Wiedabach
DESCRIPTION:Live at Lou’s
URL:https://www.lousbarandgrill.com/event/roger-wiedabach-2/
END:VEVENT
BEGIN:VEVENT
DTSTART;TZID=UTC:20231201T163000
DTEND;TZID=UTC:20231201T193000
DTSTAMP:20260421T102411
CREATED:20231127T185850Z
LAST-MODIFIED:20231127T185850Z
UID:356-1701448200-1701459000@www.lousbarandgrill.com
SUMMARY:Daylon (from Elvis before Noon)
DESCRIPTION:Live at Lou’s
URL:https://www.lousbarandgrill.com/event/daylon-from-elvis-before-noon/
END:VEVENT
BEGIN:VEVENT
DTSTART;VALUE=DATE:20231130
DTEND;VALUE=DATE:20231201
DTSTAMP:20260421T102411
CREATED:20231024T160200Z
LAST-MODIFIED:20231024T160200Z
UID:310-1701302400-1701388799@www.lousbarandgrill.com
SUMMARY:Ian Eric
DESCRIPTION:
URL:https://www.lousbarandgrill.com/event/ian-eric/
END:VEVENT
BEGIN:VEVENT
DTSTART;VALUE=DATE:20231125
DTEND;VALUE=DATE:20231126
DTSTAMP:20260421T102411
CREATED:20231024T160147Z
LAST-MODIFIED:20231024T160147Z
UID:308-1700870400-1700956799@www.lousbarandgrill.com
SUMMARY:Jacob Loper
DESCRIPTION:
URL:https://www.lousbarandgrill.com/event/jacob-loper-2/
END:VEVENT
BEGIN:VEVENT
DTSTART;VALUE=DATE:20231124
DTEND;VALUE=DATE:20231125
DTSTAMP:20260421T102411
CREATED:20231024T160129Z
LAST-MODIFIED:20231024T160129Z
UID:306-1700784000-1700870399@www.lousbarandgrill.com
SUMMARY:Paul Wells
DESCRIPTION:
URL:https://www.lousbarandgrill.com/event/paul-wells/
END:VEVENT
BEGIN:VEVENT
DTSTART;VALUE=DATE:20231118
DTEND;VALUE=DATE:20231119
DTSTAMP:20260421T102411
CREATED:20231024T160114Z
LAST-MODIFIED:20231024T160114Z
UID:304-1700265600-1700351999@www.lousbarandgrill.com
SUMMARY:Pandy Raye
DESCRIPTION:
URL:https://www.lousbarandgrill.com/event/pandy-raye/
END:VEVENT
BEGIN:VEVENT
DTSTART;VALUE=DATE:20231117
DTEND;VALUE=DATE:20231118
DTSTAMP:20260421T102411
CREATED:20231024T160100Z
LAST-MODIFIED:20231024T160100Z
UID:302-1700179200-1700265599@www.lousbarandgrill.com
SUMMARY:Jake Dean
DESCRIPTION:
URL:https://www.lousbarandgrill.com/event/jake-dean/
END:VEVENT
BEGIN:VEVENT
DTSTART;VALUE=DATE:20231116
DTEND;VALUE=DATE:20231117
DTSTAMP:20260421T102411
CREATED:20231024T160047Z
LAST-MODIFIED:20231024T160047Z
UID:300-1700092800-1700179199@www.lousbarandgrill.com
SUMMARY:Tim Brady
DESCRIPTION:
URL:https://www.lousbarandgrill.com/event/tim-brady/
END:VEVENT
BEGIN:VEVENT
DTSTART;VALUE=DATE:20231111
DTEND;VALUE=DATE:20231112
DTSTAMP:20260421T102411
CREATED:20231024T155956Z
LAST-MODIFIED:20231024T155956Z
UID:296-1699660800-1699747199@www.lousbarandgrill.com
SUMMARY:Jacob Loper
DESCRIPTION:
URL:https://www.lousbarandgrill.com/event/jacob-loper/
END:VEVENT
BEGIN:VEVENT
DTSTART;VALUE=DATE:20231110
DTEND;VALUE=DATE:20231111
DTSTAMP:20260421T102411
CREATED:20231024T160027Z
LAST-MODIFIED:20231024T160027Z
UID:298-1699574400-1699660799@www.lousbarandgrill.com
SUMMARY:Dayton (from Elvis before Noon)
DESCRIPTION:
URL:https://www.lousbarandgrill.com/event/dayton-from-elvis-before-noon/
END:VEVENT
BEGIN:VEVENT
DTSTART;VALUE=DATE:20231109
DTEND;VALUE=DATE:20231110
DTSTAMP:20260421T102411
CREATED:20231024T155836Z
LAST-MODIFIED:20231024T155836Z
UID:294-1699488000-1699574399@www.lousbarandgrill.com
SUMMARY:JC & Laney
DESCRIPTION:
URL:https://www.lousbarandgrill.com/event/jc-laney/
END:VEVENT
BEGIN:VEVENT
DTSTART;VALUE=DATE:20231104
DTEND;VALUE=DATE:20231105
DTSTAMP:20260421T102411
CREATED:20231024T155817Z
LAST-MODIFIED:20231024T155817Z
UID:292-1699056000-1699142399@www.lousbarandgrill.com
SUMMARY:Jai Graves
DESCRIPTION:
URL:https://www.lousbarandgrill.com/event/jai-graves/
END:VEVENT
BEGIN:VEVENT
DTSTART;VALUE=DATE:20231103
DTEND;VALUE=DATE:20231104
DTSTAMP:20260421T102411
CREATED:20231024T155757Z
LAST-MODIFIED:20231024T155757Z
UID:290-1698969600-1699055999@www.lousbarandgrill.com
SUMMARY:Roger Wiedabach
DESCRIPTION:
URL:https://www.lousbarandgrill.com/event/roger-wiedabach/
END:VEVENT
END:VCALENDAR